Workbook

Sheet Specifikacija - Etapa 1
A1: TRADEL d.o.o. Biškupec breg 8B, 10000 Zagreb OIB: 23164441019 E-mail: krunoslav.bicanic@gmail.com Tel. 098/843-456 | C1: Građevina, Lokacija: | E1: NARODNO SVEUČILIŠTE DUBRAVA AVENIJA DUBRAVA 51A, 10040 ZAGREB k.č. 9577/2, k.o. 335304 DUBRAVA
C2: Investitor: | E2: NARODNO SVEUČILIŠTE DUBRAVA-ZAGREB, OIB 47521323377 CERSKA 1, 10040 ZAGREB
C3: Razina pr.: | E3: PROJEKT SUSTAVA VATRODOJAVE
C4: Oznaka pr.: | E4: TP-25-02-06
A5: Etapa – 1: Vatrodojavna centrala i 2. Kat
A6: Redni broj | B6: Tekstualni opis stavke | C6: Jedinica mjere | D6: Količina | E6: Jedinična cijena stavke | F6: Ukupna cijena stavke
A7: 1. DOJAVA POŽARA
A9: 1 | B9: Demontaža postojećih javljača požara i senzora. | C9: kom | D9: 18 | F9: =IF(E9<>"",E9*D9,"")
A11: =A9+1 -> 2 | B11: Dobava centrale za dojavu požara. Dobava i isporuka centrale za dojavu požara s četiri petlje, sa sljedećim minimalnim tehničkim karakteristikama: - umreživa - 4 vatrodojavne petlje, neproširivo, prihvat minimalno 240 elemenata po svakoj petlji - metalno kućište s plastičnom prednjom pločom - integrirano 24V/4A napajanje i punjač za baterije od 1.2A za baterije od 18Ah - Ethernet priključak za umrežavanje centrala, daljinsko programiranje, IP dojavu, BMS monitoring ili MODBUS protokol - mogućnost povezivanja putem mreže na cloud sustav za nadzor i održavanje sustava ili Android/iOS aplikaciju - mini USB port za konfiguraciju preko računala - mogućnost ugradnje micro SD kartice za prikaz topografskih karti, spremanje i čitanje konfiguracija te spremanje zapisa događaja
B12: - RS485 za izdvojene tipkovnice (podrška za 14 izdvojenih tipkovnica) ili umrežavanje u mrežu centrala (podrška za 50 umreženih centrala) - 4 konfigurabilna I/O kanala za 1A nadzirane naponske ulaze ili izlaze - 1 konfigurabilni relejni izlaz - 4.3” LCD dodirni zaslon - silikonske tipke za osnovne funkcije - minimalno 1000 zona - minimalno 1000 grupa za aktivacijsku logiku - Zapis minimalno 2000 događaja - konfigurabilni zaslon sa slikama, tekstom, ikonama i funkcijskim tipkama - temperaturni opseg rada najmanje u rasponu od -5°C do +40°C - sukladnost prema HRN EN 54-2, HRN EN 54-4, HRN EN 54-21, HRN EN 12094-1 Ili jednakovrijedno ______________________________________________ | C12: kom | D12: 1 | F12: =IF(E12<>"",E12*D12,"")
A14: =A11+1 -> 3 | B14: Dobava i isporuka izdvojenog panela za nadzor i upravljanje nad sustavom za dojavu požara, sljedećih minimalnih tehničkih karakteristika: - replicira sve informacije sa sustava i omogućava pristup korisnicima ovisno o pristupnim šiframa - 4.3" LCD dodirni zaslon zajedno sa silikonskim tipkama za osnovne funkcije - konfigurabilni zaslon - moguće spajanje preko RS485 protokola ili TCP/IP umrežavanje - Napajanje 19-30 Vdc (putem RS485 iz centrale ili lokalno) - Potrošnja ne veća od 130 mA Ili jednakovrijedno ______________________________________________ | C14: kom | D14: 1 | F14: =IF(E14<>"",E14*D14,"")
A16: =A14+1 -> 4 | B16: Dobava i isporuka GSM/PSTN komunikacijskog modula proširenja sa sljedećim minimalnim tehničkim karakteristikama: - ugrađuje se izravno na matičnu ploču centrale za dojavu požara - mora podržavati protokole Contact ID i SIA - mora biti sukladna normi HRN EN 54-21 ili jednakovrijednoj - mora podržavati minimalno 100 glasovnih poruka (sveukupnog trajanja najmanje 15 minuta) - mora podržavati minimalno 100 akcija - minimalno 100 prilagodljivih SMS poruka - minimalno 15 telefonskih brojeva za dojavu (digitalno, glasovno, SMS) - napajanje od 19 do 30 Vdc - mini USB port, konektor za GSM antenu, utor za SIM karticu, konektori za telefonsku liniju - radna temperatura: minimalno u rasponu od -5°C do +40°C Ili jednakovrijedno ______________________________________________ | C16: kom | D16: 1 | F16: =IF(E16<>"",E16*D16,"")
A18: =A16+1 -> 5 | B18: Dobava i isporuka vatrootpornog ormara za smještaj vatrodojavne centrale. Izrada od čeličnog pocinčanog lima, završna obrada plastifikacijom u boji RAL kataloga po izboru naručitelja - ostakljena vrata izvedena su protupožarnim staklom prema normama EN 13823 i EN 14390, debljine 21cm - ugrađena protupožarna brava po EN 12209 i cilindar sa tri ključa - dimenzije 80x80x25 cm Ili jednakovrijedno ______________________________________________ | C18: kom | D18: 1 | F18: =IF(E18<>"",E18*D18,"")
A20: =A18+1 -> 6 | B20: Dobava i isporuka akumulatorskih baterija za rezervno napajanje sustava za dojavu požara. Napon 12 VDC, kapacitet 18 Ah. Ili jednakovrijedno ______________________________________________ | C20: kom | D20: 2 | F20: =IF(E20<>"",E20*D33,"")
A22: =A20+1 -> 7 | B22: Dobava i isporuka adresabilnog optičkog detektora s integriranim izolatorom petlje sa sljedećim minimalnim tehničkim karakteristikama: - obavezno automatsko adresiranje s centrale - obavezno mogućnost ručnog adresiranja s centrale - obavezno podesiva osjetljivost s centrale, posebno za dnevni, posebno za noćni režim - ugraden izolator petlje - dizajn optičke komore sa zaštitom od smetnji, dvostruka zaštita od prašine i insekata , zaštitna mrežica sa ultra-malim otvorima (500µm) - trobojna LED vidljiva 360° - mogućnost izbora osjetljivosti detektora i moda rada daljinski putem centrale - radni napon minimalno u rasponu od 19 do 30 Vdc - struja u mirovanju najviše 200 μA, struja u alarmu najviše 10 mA - minimalno četiri stupnja osjetljivosti (0,08/0,1/0,12/0,15 dB/m) - radna temperatura minimalno u rasponu od -5°C do +40°C - mora biti sukladan normama HRN EN 54-7 i HRN EN 54-17 Ili jednakovrijedno ______________________________________________ | C22: kom | D22: 1 | F22: =IF(E22<>"",E22*D22,"")
A24: =A22+1 -> 8 | B24: Dobava i isporuka adresabilnog optičko-termičkog detektora požara s integriranim izolatorom petlje sa sljedećim minimalnim tehničkim karakteristikama: - niskoprofilni analogno adresabilni višekriterijski (optičko-termički) detektor požara - dvobojna LED, crvena boja alarm, zelena-sporo bljeskanje standby, brzo - bljeskanje: greška ili visok nivo zaprljanja - potpuna dijagnostika stanja detektora: provjera ostalih vrijednosti u realnom vremenu - ugrađen izolator petlje - zaštita od smetnji, dvostruka zaštita od prašine i insekata - radni napon minimalno u rasponu od 19 do 30 Vdc - struja u mirovanju najviše 200 μA, struja u alarmu najviše 10 mA - minimalno četiri stupnja osjetljivosti za detekciju dima (0,08/0,1/0,12/0,15 dB/m) - minimalno četiri stupnja osjetljivosti termistora prema HRN EN 54 (A1R / B / BR / A2S) - minimalno pet načina rada: PLUS, ILI, I, DIM, TOPLINA - radna temperatura minimalno u rasponu od -5°C do +40°C - mora biti sukladan normama HRN EN 54-5, HRN EN 54-7 i HRN EN 54-17 Ili jednakovrijedno ______________________________________________ | C24: kom | D24: 31 | F24: =IF(E24<>"",E24*D24,"")
A26: =A24+1 -> 9 | B26: Dobava i isporuka podnožja za adresabilne detektore. Mora biti opremljeno sa kontaktom (mostom) koji osigurava neprekinutost linije prilikom skidanja detektora. | C26: kom | D26: =SUM(C22:D24) -> 32 | F26: =IF(E26<>"",E26*D26,"")
A28: =A26+1 -> 10 | B28: Dobava i isporuka odstojnika za nadžbuknu montažu za montažu ispod podnožja detektora na pozicijama gdje nema spuštenog stropa. | C28: kom | D28: =D26 -> 32 | F28: =IF(E28<>"",E28*D28,"")
A30: =A28+1 -> 11 | B30: Dobava i isporuka adresabilnog ručnog javljača požara s integriranim izolatorom petlje, bez razbijanja stakla, crvene boje, reset ključem, sljedećih minimalnih tehničkih karakteristika: - mehanička vizualna inidkacija aktivacije - mora imati prozirni plastični element za aktivaciju koje se mora moći ručno vratiti u neutralan položaj, bez lomljenja i potrebe za zamjenom nakon svake aktivacije - po naredbi iz adresabilne centrale šalje informaciju o stanju javljača - ugrađen izolator petlje - radni napon u rasponu od 9 do 30 Vdc - struja u mirovanju najviše 80 μA, struja u alarmu najviše 5 mA - radna temperatura minimalno u rasponu od -10°C do +55°C - mora biti sukladan normama HRN EN 54-11 i HRN EN 54-17 Ili jednakovrijedno ______________________________________________ | C30: kom | D30: 3 | F30: =IF(E30<>"",E30*D30,"")
A32: =A30+1 -> 12 | B32: Dobava i isporuka ulazno-izlaznog modula s 1 ulazom i 2 izlaza - mogućnost samoadresiranja - najmanje 1 nadzirani ulaz - najmanje 1 nadzirani izlaz - najmanje 1 beznaponski izlaz 1A@30Vdc - integriran izolator petlje - radni napon u rasponu od 9 do 30 Vdc - struja u mirovanju najviše 80 μA, struja u alarmu najviše 20 mA - radna temperatura minimalno u rasponu od -5°C do +40°C - mora biti sukladan normama HRN EN 54-17 i HRN EN 54-18 Ili jednakovrijedno ______________________________________________ | C32: kom | D32: 1 | F32: =IF(E32<>"",E32*D32,"")
A34: =A32+1 -> 13 | B34: Dobava i isporuka nadžbukne kutije za ulazno-izlazni modul dim.150 x 150 x 75 mm. | C34: kom | D34: 1 | F34: =IF(E34<>"",E34*D34,"")
A36: =A34+1 -> 14 | B36: Dobava i isporuka adresabilne sirene s bljeskalicom napajane iz petlje, sljedećih minimalnih tehničkih karakteristika: - napajanje iz petlje ili preko vanjskog napajanja - termoplastično kućište crvene boje - izbor minimalno 14 tonova i 2 jačine bljeskanja (putem zasebnog programatora ili centrale za dojavu požara) - svjetlosno pokrivanje bljeskalicom W = 3,5-10 (prema HRN EN 54-23) - frekvencija bljeskanja 0,5 Hz - mogućnost sinkronizacije s ostalim sirenama u sustavu - signalizacijska LED dioda s mogućnošću mijenjanja boje - glasnoća do 101 dB(A)@1m - integriran izolator kratkog spoja (prema HRN EN 54-17) - radni napon minimalno u rasponu od 18 do 30Vdc - IP65 zaštita, pogodna za vanjsku ugradnju (IP21 prema HRN EN 54-3) - struja mirovanja najviše 0,5 mA - struja alarma najviše 45 mA - radna temperatura -10°C do +55°C - mora biti sukladna normama HRN EN 54-3, HRN EN 54-17, HRN EN 54-23 Ili jednakovrijedno ______________________________________________ | C36: kom | D36: 1 | F36: =IF(E36<>"",E36*D36,"")
A38: =A36+1 -> 15 | B38: Dobava i isporuka centralne softverske aplikacije za nadzor nad sustavom za dojavu požara, potrebne licence za pojedine elemente sustava sa slijedećim karakteristikama: - programski paket za grafički prikaz i upravljanje sustavima dojave požara - grafičke mape štićenog prostora (neograničen broj mapa) - grafički prikaz stanja alarmnog sustava i interaktivni simboli elemenata alarmnog sustava - pretraživanje događaja iz baze podataka - neograničeni broj operatera s različitim pravima - u slučaju prekida komunikacije sa pojedinim sustavom, servis treba automatski obavijestiti operatera putem klijentske aplikacije te pokušavati uspostaviti vezu sa dotičnim sustavom - mogućnost povezivanja svakog tlocrtnog prikaza sa odgovarajućim prikazom kamera na drugom ekranu - aplikacija mora imati mogućnost, da u slučaju određene alarmne situacije, prikaže tlocrtni prikaz dijela objekta u kojem je detektiran alarm s promijenjenom bojom aktivnog simbola koji je u alarmu te da operater može trenutno dobiti video sliku s alarmne pozicije na pomoćnom monitoru. Svi alarmni događaji moraju biti prikazani u obliku alarmne liste na kojoj će biti navedeni svi neobrađeni alarmni događaji (u odgovarajućim bojama koje određuju pojedini događaj)
B39: - ikone trebaju imati slijedeće funkcionalnosti: - mogućnost prikaza statusa (uključeno/isključeno, otvoreno/zatvoreno, …) različitim simbolima/bojama - mogućnost prikaza alarma različitim bojama - mogućnost upravljanja pripadajućim sustavom (npr. za protuprovalni sustav uključenje/isključenje zaštite, za video nadzorni sustav upravljanje relejima na kameri, …) - mogućnost promjene prikaza kamera na drugom monitoru - mogućnost prikaza druge mape (navigacijski element) - mogućnost obrade zaprimljenih alarma prema unaprijed definiranim pravilima - mogućnost prikaza statusa i alarma svih detektora u sustavu protuprovale, statusa i alarma svih particija, kao i mogućnost upravljanja istima ukoliko za to postoje ovlasti (uključenje/isključenje) - SQL Server baza podataka Enterprise, Express, ili Compact Edition Ili jednakovrijedno ______________________________________________ - dvosmjerna integracija sa trećim sustavima korištenjem SSH Ili jednakovrijedno ______________________________________________ | C39: kom | D39: 1 | F39: =IF(E39<>"",E39*D39,"")
A41: =A38+1 -> 16 | B41: Dobava i isporuka licence za spoj centrale za dojavu požara na osnovnu aplikaciju za integraciju. | C41: kom | D41: 1 | F41: =IF(E41<>"",E41*D41,"")
A43: =A41+1 -> 17 | B43: Konfiguracija jednog ulaznog ili izlaznog aktivnog elementa u aplikaciji integracije sustava. | C43: kom | D43: 36 | F43: =IF(E43<>"",E43*D43,"")
A45: =A43+1 -> 18 | B45: Montaža adresabilne vatrodojavne centrale: Montaža adresabilne vatrodojavne centrale na zid s vijcima i tiplama s uvlačenjem kabela; Montaža i spajanje akumulatora za vatrodojavnu centralu; Spajanje adresabilne vatrodojavne centrale; Skidanje izolacije s kabela i izvođenje ožičenja unutar vatrodojavne centrale Ugradnja svih kartica petlje i kartica proširenja | C45: kpl. | D45: 1 | F45: =IF(E45<>"",E45*D45,"")
A47: =A45+1 -> 19 | B47: Montaža i spajanje izdvojenog panela | C47: kom | D47: 1 | F47: =IF(E47<>"",E47*D47,"")
A49: =A47+1 -> 20 | B49: Montaža podnožja i spajanje podnožja vatrodojavnog detektora na liniju | C49: kom | D49: =D26 -> 32 | F49: =IF(E49<>"",E49*D49,"")
A51: =A49+1 -> 21 | B51: Montaža javljača požara na podnožje i adresiranje detektora | C51: kom | D51: =D49 -> 32 | F51: =IF(E51<>"",E51*D51,"")
A53: =A51+1 -> 22 | B53: Montaža odstojnika | C53: kom | D53: =D51 -> 32 | F53: =IF(E53<>"",E53*D53,"")
A55: =A53+1 -> 23 | B55: Montaža i spajanje ručnog javljača požara i adresiranje | C55: kom | D55: =D30 -> 3 | F55: =IF(E55<>"",E55*D55,"")
A57: =A55+1 -> 24 | B57: Montaža i spajanje vatrodojavne sirene / bljeskalice | C57: kom | D57: 16 | F57: =IF(E57<>"",E57*D57,"")
A59: =A57+1 -> 25 | B59: Montaža i spajanje ulazno-izlaznog modula | C59: kom | D59: =D32 -> 1 | F59: =IF(E59<>"",E59*D59,"")
A61: =A59+1 -> 26 | B61: Puštanje sustava za dojavu požara i vatrodojavnih petlji u rad, uz provjeru petlji, pronalaženje eventualnih grešaka i njihovo ispravljanje, do pune funkcionalnosti svake petlje | C61: kpl | D61: 1 | F61: =IF(E61<>"",E61*D61,"")
A63: =A61+1 -> 27 | B63: Programiranje adresabilne vatrodojavne centrale - po jednom detektoru, javljaču, sireni ili modulu | C63: kom | D63: =36 -> 36 | F63: =IF(E63<>"",E63*D63,"")
A65: =A63+1 -> 28 | B65: Dobava potrebnih oznaka i označavanje svih elemenata vatrodojavnog sustava prema blok-shemi | C65: kom | D65: =D63 -> 36 | F65: =IF(E65<>"",E65*D65,"")
A67: =A65+1 -> 29 | B67: Izrada protupožarnog brtvljenja - na probojima između požarnih sektora sa atestiranim negorivim materijalima klase vatrootpornosti prema EN 13501-2 i označavanje mjesta protupožarnog brtvljenja. Ili jednakovrijedno ______________________________________________ | C67: kom | D67: 4 | F67: =IF(E67<>"",E67*D67,"")
A69: =A67+1 -> 30 | B69: Izrada projekta izvedenog stanja sustava za dojavu požara - u 3 tiskana primjerka te jednom primjeku u digitalnom obliku | C69: kom | D69: 1 | F69: =IF(E69<>"",E69*D69,"")
A71: =A69+1 -> 31 | B71: Prvo ispitivanje sustava od strane ovlaštene tvrtke - uključuje izdavanje uvjerenja o ispravnosti sustava i zapisnika o obavljenom funkcionalnom ispitivanju | C71: kpl | D71: 1 | F71: =IF(E71<>"",E71*D71,"")
...

Sheet Specifikacija - Etapa 2
A1: TRADEL d.o.o. Biškupec breg 8B, 10000 Zagreb OIB: 23164441019 E-mail: krunoslav.bicanic@gmail.com Tel. 098/843-456 | C1: Građevina, Lokacija: | E1: NARODNO SVEUČILIŠTE DUBRAVA AVENIJA DUBRAVA 51A, 10040 ZAGREB k.č. 9577/2, k.o. 335304 DUBRAVA
C2: Investitor: | E2: NARODNO SVEUČILIŠTE DUBRAVA-ZAGREB, OIB 47521323377 CERSKA 1, 10040 ZAGREB
C3: Razina pr.: | E3: PROJEKT SUSTAVA VATRODOJAVE
C4: Oznaka pr.: | E4: TP-25-02-06
A5: Etapa – 2: Podrum
A6: Redni broj | B6: Tekstualni opis stavke | C6: Jedinica mjere | D6: Količina | E6: Jedinična cijena stavke | F6: Ukupna cijena stavke
A7: 1. DOJAVA POŽARA
A9: 1 | B9: Demontaža postojećih javljača požara i senzora. | C9: kom | D9: 24 | F9: =IF(E9<>"",E9*D9,"")
A11: =A9+1 -> 2 | B11: Dobava i isporuka adresabilnog optičkog detektora s integriranim izolatorom petlje sa sljedećim minimalnim tehničkim karakteristikama: - obavezno automatsko adresiranje s centrale - obavezno mogućnost ručnog adresiranja s centrale - obavezno podesiva osjetljivost s centrale, posebno za dnevni, posebno za noćni režim - ugraden izolator petlje - dizajn optičke komore sa zaštitom od smetnji, dvostruka zaštita od prašine i insekata , zaštitna mrežica sa ultra-malim otvorima (500µm) - trobojna LED vidljiva 360° - mogućnost izbora osjetljivosti detektora i moda rada daljinski putem centrale - radni napon minimalno u rasponu od 19 do 30 Vdc - struja u mirovanju najviše 200 μA, struja u alarmu najviše 10 mA - minimalno četiri stupnja osjetljivosti (0,08/0,1/0,12/0,15 dB/m) - radna temperatura minimalno u rasponu od -5°C do +40°C - mora biti sukladan normama HRN EN 54-7 i HRN EN 54-17 Ili jednakovrijedno ______________________________________________ | C11: kom | D11: 1 | F11: =IF(E11<>"",E11*D11,"")
A13: =A11+1 -> 3 | B13: Dobava i isporuka adresabilnog optičko-termičkog detektora požara s integriranim izolatorom petlje sa sljedećim minimalnim tehničkim karakteristikama: - niskoprofilni analogno adresabilni višekriterijski (optičko-termički) detektor požara - dvobojna LED, crvena boja alarm, zelena-sporo bljeskanje standby, brzo - bljeskanje: greška ili visok nivo zaprljanja - potpuna dijagnostika stanja detektora: provjera ostalih vrijednosti u realnom vremenu - ugrađen izolator petlje - zaštita od smetnji, dvostruka zaštita od prašine i insekata - radni napon minimalno u rasponu od 19 do 30 Vdc - struja u mirovanju najviše 200 μA, struja u alarmu najviše 10 mA - minimalno četiri stupnja osjetljivosti za detekciju dima (0,08/0,1/0,12/0,15 dB/m) - minimalno četiri stupnja osjetljivosti termistora prema HRN EN 54 (A1R / B / BR / A2S) - minimalno pet načina rada: PLUS, ILI, I, DIM, TOPLINA - radna temperatura minimalno u rasponu od -5°C do +40°C - mora biti sukladan normama HRN EN 54-5, HRN EN 54-7 i HRN EN 54-17 Ili jednakovrijedno ______________________________________________ | C13: kom | D13: 23 | F13: =IF(E13<>"",E13*D13,"")
A15: =A13+1 -> 4 | B15: Dobava i isporuka podnožja za adresabilne detektore. Mora biti opremljeno sa kontaktom (mostom) koji osigurava neprekinutost linije prilikom skidanja detektora. | C15: kom | D15: =SUM(C11:D13) -> 24 | F15: =IF(E15<>"",E15*D15,"")
A17: =A15+1 -> 5 | B17: Dobava i isporuka odstojnika za nadžbuknu montažu za montažu ispod podnožja detektora na pozicijama gdje nema spuštenog stropa. | C17: kom | D17: =D15 -> 24 | F17: =IF(E17<>"",E17*D17,"")
A19: =A17+1 -> 6 | B19: Dobava i isporuka adresabilnog ručnog javljača požara s integriranim izolatorom petlje, bez razbijanja stakla, crvene boje, reset ključem, sljedećih minimalnih tehničkih karakteristika: - mehanička vizualna inidkacija aktivacije - mora imati prozirni plastični element za aktivaciju koje se mora moći ručno vratiti u neutralan položaj, bez lomljenja i potrebe za zamjenom nakon svake aktivacije - po naredbi iz adresabilne centrale šalje informaciju o stanju javljača - ugrađen izolator petlje - radni napon u rasponu od 9 do 30 Vdc - struja u mirovanju najviše 80 μA, struja u alarmu najviše 5 mA - radna temperatura minimalno u rasponu od -10°C do +55°C - mora biti sukladan normama HRN EN 54-11 i HRN EN 54-17 Ili jednakovrijedno ______________________________________________ | C19: kom | D19: 2 | F19: =IF(E19<>"",E19*D19,"")
A21: =A19+1 -> 7 | B21: Dobava i isporuka ulazno-izlaznog modula s 1 ulazom i 2 izlaza - mogućnost samoadresiranja - najmanje 1 nadzirani ulaz - najmanje 1 nadzirani izlaz - najmanje 1 beznaponski izlaz 1A@30Vdc - integriran izolator petlje - radni napon u rasponu od 9 do 30 Vdc - struja u mirovanju najviše 80 μA, struja u alarmu najviše 20 mA - radna temperatura minimalno u rasponu od -5°C do +40°C - mora biti sukladan normama HRN EN 54-17 i HRN EN 54-18 Ili jednakovrijedno ______________________________________________ | C21: kom | D21: 1 | F21: =IF(E21<>"",E21*D21,"")
A23: =A21+1 -> 8 | B23: Dobava i isporuka nadžbukne kutije za ulazno-izlazni modul dim.150 x 150 x 75 mm. | C23: kom | D23: 1 | F23: =IF(E23<>"",E23*D23,"")
A25: =A23+1 -> 9 | B25: Dobava i isporuka adresabilne sirene s bljeskalicom napajane iz petlje, sljedećih minimalnih tehničkih karakteristika: - napajanje iz petlje ili preko vanjskog napajanja - termoplastično kućište crvene boje - izbor minimalno 14 tonova i 2 jačine bljeskanja (putem zasebnog programatora ili centrale za dojavu požara) - svjetlosno pokrivanje bljeskalicom W = 3,5-10 (prema HRN EN 54-23) - frekvencija bljeskanja 0,5 Hz - mogućnost sinkronizacije s ostalim sirenama u sustavu - signalizacijska LED dioda s mogućnošću mijenjanja boje - glasnoća do 101 dB(A)@1m - integriran izolator kratkog spoja (prema HRN EN 54-17) - radni napon minimalno u rasponu od 18 do 30Vdc - IP65 zaštita, pogodna za vanjsku ugradnju (IP21 prema HRN EN 54-3) - struja mirovanja najviše 0,5 mA - struja alarma najviše 45 mA - radna temperatura -10°C do +55°C - mora biti sukladna normama HRN EN 54-3, HRN EN 54-17, HRN EN 54-23 Ili jednakovrijedno ______________________________________________ | C25: kom | D25: 1 | F25: =IF(E25<>"",E25*D25,"")
A27: =A25+1 -> 10 | B27: Konfiguracija jednog ulaznog ili izlaznog aktivnog elementa u aplikaciji integracije sustava. | C27: kom | D27: =D29 -> 24 | F27: =IF(E27<>"",E27*D27,"")
A29: =A27+1 -> 11 | B29: Montaža podnožja i spajanje podnožja vatrodojavnog detektora na liniju | C29: kom | D29: =D15 -> 24 | F29: =IF(E29<>"",E29*D29,"")
A31: =A29+1 -> 12 | B31: Montaža javljača požara na podnožje i adresiranje detektora | C31: kom | D31: =D29 -> 24 | F31: =IF(E31<>"",E31*D31,"")
A33: =A31+1 -> 13 | B33: Montaža odstojnika | C33: kom | D33: =D31 -> 24 | F33: =IF(E33<>"",E33*D33,"")
A35: =A33+1 -> 14 | B35: Montaža i spajanje ručnog javljača požara i adresiranje | C35: kom | D35: =D19 -> 2 | F35: =IF(E35<>"",E35*D35,"")
A37: =A35+1 -> 15 | B37: Montaža i spajanje vatrodojavne sirene / bljeskalice | C37: kom | D37: 16 | F37: =IF(E37<>"",E37*D37,"")
A39: =A37+1 -> 16 | B39: Montaža i spajanje ulazno-izlaznog modula | C39: kom | D39: =D21 -> 1 | F39: =IF(E39<>"",E39*D39,"")
A41: =A39+1 -> 17 | B41: Puštanje sustava za dojavu požara i vatrodojavnih petlji u rad, uz provjeru petlji, pronalaženje eventualnih grešaka i njihovo ispravljanje, do pune funkcionalnosti svake petlje | C41: kpl | D41: 1 | F41: =IF(E41<>"",E41*D41,"")
A43: =A41+1 -> 18 | B43: Programiranje adresabilne vatrodojavne centrale - po jednom detektoru, javljaču, sireni ili modulu | C43: kom | D43: =D29 -> 24 | F43: =IF(E43<>"",E43*D43,"")
A45: =A43+1 -> 19 | B45: Dobava potrebnih oznaka i označavanje svih elemenata vatrodojavnog sustava prema blok-shemi | C45: kom | D45: =D43 -> 24 | F45: =IF(E45<>"",E45*D45,"")
A47: =A45+1 -> 20 | B47: Izrada protupožarnog brtvljenja - na probojima između požarnih sektora sa atestiranim negorivim materijalima klase vatrootpornosti prema EN 13501-2 i označavanje mjesta protupožarnog brtvljenja. Ili jednakovrijedno ______________________________________________ | C47: kom | D47: 4 | F47: =IF(E47<>"",E47*D47,"")
A49: =A47+1 -> 21 | B49: Izrada projekta izvedenog stanja sustava za dojavu požara - u 3 tiskana primjerka te jednom primjeku u digitalnom obliku | C49: kpl. | D49: 1 | F49: =IF(E49<>"",E49*D49,"")
A51: =A49+1 -> 22 | B51: Prvo ispitivanje sustava od strane ovlaštene tvrtke - uključuje izdavanje uvjerenja o ispravnosti sustava i zapisnika o obavljenom funkcionalnom ispitivanju | C51: kpl | D51: 1 | F51: =IF(E51<>"",E51*D51,"")
A53: =A51+1 -> 23 | B53: Obuka korisnika za rukovanje sustavom dojave požara - uključivo tiskane upute za rukovanje na hrvatskom jeziku (2 primjerka) | C53: kpl | D53: 1 | F53: =IF(E53<>"",E53*D53,"")
A55: =A53+1 -> 24 | B55: Dobava i isporuka kabela za napajanje NHXH (E30) 3x2,5mm2 | C55: m | D55: 100 | F55: =IF(E55<>"",E55*D55,"")
A57: =A55+1 -> 25 | B57: Dobava i isporuka kabela UTP 4x2x24 AWG Cat 5e za spoj dojavnika na telefonsku liniju | C57: m | D57: 100 | F57: =IF(E57<>"",E57*D57,"")
A59: =A57+1 -> 26 | B59: Dobava i isporuka vatrodojavnog kabela, krutih vodiča 2x1 mm2, vrste kabela SAS0215HFAAH - crvene boje - samogasiva PVC izolacija - bezhalogeni, malodimni | C59: m | D59: 150 | F59: =IF(E59<>"",E59*D59,"")
A61: =A59+1 -> 27 | B61: Dobava i isporuka vatrodojavnog kabela, krutih vodiča, s očuvanjem električne funkcije u požaru, oznake JB-H(St)H E30 2x2x0,8mm2 - crvene boje - samogasiva PVC izolacija - bezhalogeni, malodimni - CPR klasifikacija C - s1a, d0, a1 | C61: m | D61: 150 | F61: =IF(E61<>"",E61*D61,"")
A63: =A61+1 -> 28 | B63: Dobava i nadžbukna ugradnja plastične kabelske kanalice 120x50mm - uključujući potrebni instalacijski spojni i montažni pribor i materijal (razvodne kutije, uvodnice, gips, tiple, vijci, spojnice, koljena, nosači) | C63: m | D63: 40 | F63: =IF(E63<>"",E63*D63,"")
A65: =A63+1 -> 29 | B65: Dobava i nadžbukna ugradnja plastične kabelske kanalice 40x17mm - uključujući potrebni instalacijski spojni i montažni pribor i materijal (razvodne kutije, uvodnice, gips, tiple, vijci, spojnice, koljena, nosači) | C65: m | D65: 50 | F65: =IF(E65<>"",E65*D65,"")
A67: =A65+1 -> 30 | B67: Dobava i nadžbukna ugradnja plastične kabelske kanalice 20x15mm - uključujući potrebni instalacijski spojni i montažni pribor i materijal (razvodne kutije, uvodnice, gips, tiple, vijci, spojnice, koljena, nosači) | C67: m | D67: 100 | F67: =IF(E67<>"",E67*D67,"")
A69: =A67+1 -> 31 | B69: Polaganje negorive rebraste CS cijevi fi 25 mm | C69: m | D69: 25 | F69: =IF(E69<>"",E69*D69,"")
... A79: =A77+1 -> 36 | B79: Primopredaja sustava investitoru - uključuje primopredaju dokumentacije izvedenog stanja, uvjerenja o ispravnosti sustava i zapisnika o funkcionalnom ispitivanju, zapisnika o izvršenoj obuci korisnika i korisničkih uputa za rukovanje centralom. | C79: kpl | D79: 1 | F79: =IF(E79<>"",E79*D79,"")
A81: =A79+1 -> 37 | B81: Dobava i polaganje negorivog vatrodojavnog kabela pretežno stropom u predviđene PK kanale ili instalacijske PNT cijevi, uključiv sav potreban instalacijski materijal - aluminijski oklop crvene boje TIP: JEB-H(St)H (E30) 4x2x0,8mm2 | C81: m | D81: =D59 -> 150 | F81: =IF(E81<>"",E81*D81,"")
...

Sheet Specifikacija - Etapa 3
A1: TRADEL d.o.o. Biškupec breg 8B, 10000 Zagreb OIB: 23164441019 E-mail: krunoslav.bicanic@gmail.com Tel. 098/843-456 | C1: Građevina, Lokacija: | E1: NARODNO SVEUČILIŠTE DUBRAVA AVENIJA DUBRAVA 51A, 10040 ZAGREB k.č. 9577/2, k.o. 335304 DUBRAVA
C2: Investitor: | E2: NARODNO SVEUČILIŠTE DUBRAVA-ZAGREB, OIB 47521323377 CERSKA 1, 10040 ZAGREB
C3: Razina pr.: | E3: PROJEKT SUSTAVA VATRODOJAVE
C4: Oznaka pr.: | E4: TP-25-02-06
A5: Etapa – 3: 1. Kat
A6: Redni broj | B6: Tekstualni opis stavke | C6: Jedinica mjere | D6: Količina | E6: Jedinična cijena stavke | F6: Ukupna cijena stavke
A7: 1. DOJAVA POŽARA
A9: 1 | B9: Demontaža postojećih javljača požara i senzora. | C9: kom | D9: 24 | F9: =IF(E9<>"",E9*D9,"")
A11: =A9+1 -> 2 | B11: Dobava i isporuka adresabilnog optičkog detektora s integriranim izolatorom petlje sa sljedećim minimalnim tehničkim karakteristikama: - obavezno automatsko adresiranje s centrale - obavezno mogućnost ručnog adresiranja s centrale - obavezno podesiva osjetljivost s centrale, posebno za dnevni, posebno za noćni režim - ugraden izolator petlje - dizajn optičke komore sa zaštitom od smetnji, dvostruka zaštita od prašine i insekata , zaštitna mrežica sa ultra-malim otvorima (500µm) - trobojna LED vidljiva 360° - mogućnost izbora osjetljivosti detektora i moda rada daljinski putem centrale - radni napon minimalno u rasponu od 19 do 30 Vdc - struja u mirovanju najviše 200 μA, struja u alarmu najviše 10 mA - minimalno četiri stupnja osjetljivosti (0,08/0,1/0,12/0,15 dB/m) - radna temperatura minimalno u rasponu od -5°C do +40°C - mora biti sukladan normama HRN EN 54-7 i HRN EN 54-17 Ili jednakovrijedno ______________________________________________ | C11: kom | D11: 3 | F11: =IF(E11<>"",E11*D11,"")
A13: =A11+1 -> 3 | B13: Dobava i isporuka adresabilnog optičko-termičkog detektora požara s integriranim izolatorom petlje sa sljedećim minimalnim tehničkim karakteristikama: - niskoprofilni analogno adresabilni višekriterijski (optičko-termički) detektor požara - dvobojna LED, crvena boja alarm, zelena-sporo bljeskanje standby, brzo - bljeskanje: greška ili visok nivo zaprljanja - potpuna dijagnostika stanja detektora: provjera ostalih vrijednosti u realnom vremenu - ugrađen izolator petlje - zaštita od smetnji, dvostruka zaštita od prašine i insekata - radni napon minimalno u rasponu od 19 do 30 Vdc - struja u mirovanju najviše 200 μA, struja u alarmu najviše 10 mA - minimalno četiri stupnja osjetljivosti za detekciju dima (0,08/0,1/0,12/0,15 dB/m) - minimalno četiri stupnja osjetljivosti termistora prema HRN EN 54 (A1R / B / BR / A2S) - minimalno pet načina rada: PLUS, ILI, I, DIM, TOPLINA - radna temperatura minimalno u rasponu od -5°C do +40°C - mora biti sukladan normama HRN EN 54-5, HRN EN 54-7 i HRN EN 54-17 Ili jednakovrijedno ______________________________________________ | C13: kom | D13: 46 | F13: =IF(E13<>"",E13*D13,"")
A15: =A13+1 -> 4 | B15: Dobava i isporuka podnožja za adresabilne detektore. Mora biti opremljeno sa kontaktom (mostom) koji osigurava neprekinutost linije prilikom skidanja detektora. | C15: kom | D15: =SUM(C11:D13) -> 49 | F15: =IF(E15<>"",E15*D15,"")
A17: =A15+1 -> 5 | B17: Dobava i isporuka odstojnika za nadžbuknu montažu za montažu ispod podnožja detektora na pozicijama gdje nema spuštenog stropa. | C17: kom | D17: =D15 -> 49 | F17: =IF(E17<>"",E17*D17,"")
A19: =A17+1 -> 6 | B19: Dobava i isporuka adresabilnog ručnog javljača požara s integriranim izolatorom petlje, bez razbijanja stakla, crvene boje, reset ključem, sljedećih minimalnih tehničkih karakteristika: - mehanička vizualna inidkacija aktivacije - mora imati prozirni plastični element za aktivaciju koje se mora moći ručno vratiti u neutralan položaj, bez lomljenja i potrebe za zamjenom nakon svake aktivacije - po naredbi iz adresabilne centrale šalje informaciju o stanju javljača - ugrađen izolator petlje - radni napon u rasponu od 9 do 30 Vdc - struja u mirovanju najviše 80 μA, struja u alarmu najviše 5 mA - radna temperatura minimalno u rasponu od -10°C do +55°C - mora biti sukladan normama HRN EN 54-11 i HRN EN 54-17 Ili jednakovrijedno ______________________________________________ | C19: kom | D19: 5 | F19: =IF(E19<>"",E19*D19,"")
A21: =A19+1 -> 7 | B21: Dobava i isporuka ulazno-izlaznog modula s 1 ulazom i 2 izlaza - mogućnost samoadresiranja - najmanje 1 nadzirani ulaz - najmanje 1 nadzirani izlaz - najmanje 1 beznaponski izlaz 1A@30Vdc - integriran izolator petlje - radni napon u rasponu od 9 do 30 Vdc - struja u mirovanju najviše 80 μA, struja u alarmu najviše 20 mA - radna temperatura minimalno u rasponu od -5°C do +40°C - mora biti sukladan normama HRN EN 54-17 i HRN EN 54-18 Ili jednakovrijedno ______________________________________________ | C21: kom | D21: 1 | F21: =IF(E21<>"",E21*D21,"")
A23: =A21+1 -> 8 | B23: Dobava i isporuka nadžbukne kutije za ulazno-izlazni modul dim.150 x 150 x 75 mm. | C23: kom | D23: 1 | F23: =IF(E23<>"",E23*D23,"")
A25: =A23+1 -> 9 | B25: Dobava i isporuka adresabilne sirene s bljeskalicom napajane iz petlje, sljedećih minimalnih tehničkih karakteristika: - napajanje iz petlje ili preko vanjskog napajanja - termoplastično kućište crvene boje - izbor minimalno 14 tonova i 2 jačine bljeskanja (putem zasebnog programatora ili centrale za dojavu požara) - svjetlosno pokrivanje bljeskalicom W = 3,5-10 (prema HRN EN 54-23) - frekvencija bljeskanja 0,5 Hz - mogućnost sinkronizacije s ostalim sirenama u sustavu - signalizacijska LED dioda s mogućnošću mijenjanja boje - glasnoća do 101 dB(A)@1m - integriran izolator kratkog spoja (prema HRN EN 54-17) - radni napon minimalno u rasponu od 18 do 30Vdc - IP65 zaštita, pogodna za vanjsku ugradnju (IP21 prema HRN EN 54-3) - struja mirovanja najviše 0,5 mA - struja alarma najviše 45 mA - radna temperatura -10°C do +55°C - mora biti sukladna normama HRN EN 54-3, HRN EN 54-17, HRN EN 54-23 Ili jednakovrijedno ______________________________________________ | C25: kom | D25: 3 | F25: =IF(E25<>"",E25*D25,"")
A27: =A25+1 -> 10 | B27: Konfiguracija jednog ulaznog ili izlaznog aktivnog elementa u aplikaciji integracije sustava. | C27: kom | D27: =D29 -> 49 | F27: =IF(E27<>"",E27*D27,"")
A29: =A27+1 -> 11 | B29: Montaža podnožja i spajanje podnožja vatrodojavnog detektora na liniju | C29: kom | D29: =D15 -> 49 | F29: =IF(E29<>"",E29*D29,"")
A31: =A29+1 -> 12 | B31: Montaža javljača požara na podnožje i adresiranje detektora | C31: kom | D31: =D29 -> 49 | F31: =IF(E31<>"",E31*D31,"")
A33: =A31+1 -> 13 | B33: Montaža odstojnika | C33: kom | D33: =D31 -> 49 | F33: =IF(E33<>"",E33*D33,"")
A35: =A33+1 -> 14 | B35: Montaža i spajanje ručnog javljača požara i adresiranje | C35: kom | D35: =D19 -> 5 | F35: =IF(E35<>"",E35*D35,"")
A37: =A35+1 -> 15 | B37: Montaža i spajanje vatrodojavne sirene / bljeskalice | C37: kom | D37: 16 | F37: =IF(E37<>"",E37*D37,"")
A39: =A37+1 -> 16 | B39: Montaža i spajanje ulazno-izlaznog modula | C39: kom | D39: =D21 -> 1 | F39: =IF(E39<>"",E39*D39,"")
A41: =A39+1 -> 17 | B41: Puštanje sustava za dojavu požara i vatrodojavnih petlji u rad, uz provjeru petlji, pronalaženje eventualnih grešaka i njihovo ispravljanje, do pune funkcionalnosti svake petlje | C41: kpl | D41: 1 | F41: =IF(E41<>"",E41*D41,"")
A43: =A41+1 -> 18 | B43: Programiranje adresabilne vatrodojavne centrale - po jednom detektoru, javljaču, sireni ili modulu | C43: kom | D43: =D29 -> 49 | F43: =IF(E43<>"",E43*D43,"")
A45: =A43+1 -> 19 | B45: Dobava potrebnih oznaka i označavanje svih elemenata vatrodojavnog sustava prema blok-shemi | C45: kom | D45: =D43 -> 49 | F45: =IF(E45<>"",E45*D45,"")
A47: =A45+1 -> 20 | B47: Izrada protupožarnog brtvljenja - na probojima između požarnih sektora sa atestiranim negorivim materijalima klase vatrootpornosti prema EN 13501-2 i označavanje mjesta protupožarnog brtvljenja. Ili jednakovrijedno ______________________________________________ | C47: kom | D47: 4 | F47: =IF(E47<>"",E47*D47,"")
A49: =A47+1 -> 21 | B49: Izrada projekta izvedenog stanja sustava za dojavu požara - u 3 tiskana primjerka te jednom primjeku u digitalnom obliku | C49: kpl. | D49: 1 | F49: =IF(E49<>"",E49*D49,"")
A51: =A49+1 -> 22 | B51: Prvo ispitivanje sustava od strane ovlaštene tvrtke - uključuje izdavanje uvjerenja o ispravnosti sustava i zapisnika o obavljenom funkcionalnom ispitivanju | C51: kpl | D51: 1 | F51: =IF(E51<>"",E51*D51,"")
A53: =A51+1 -> 23 | B53: Obuka korisnika za rukovanje sustavom dojave požara - uključivo tiskane upute za rukovanje na hrvatskom jeziku (2 primjerka) | C53: kpl | D53: 1 | F53: =IF(E53<>"",E53*D53,"")
A55: =A53+1 -> 24 | B55: Dobava i isporuka kabela za napajanje NHXH (E30) 3x2,5mm2 | C55: m | D55: 200 | F55: =IF(E55<>"",E55*D55,"")
A57: =A55+1 -> 25 | B57: Dobava i isporuka kabela UTP 4x2x24 AWG Cat 5e za spoj dojavnika na telefonsku liniju | C57: m | D57: 200 | F57: =IF(E57<>"",E57*D57,"")
A59: =A57+1 -> 26 | B59: Dobava i isporuka vatrodojavnog kabela, krutih vodiča 2x1 mm2, vrste kabela SAS0215HFAAH - crvene boje - samogasiva PVC izolacija - bezhalogeni, malodimni | C59: m | D59: 300 | F59: =IF(E59<>"",E59*D59,"")
A61: =A59+1 -> 27 | B61: Dobava i isporuka vatrodojavnog kabela, krutih vodiča, s očuvanjem električne funkcije u požaru, oznake JB-H(St)H E30 2x2x0,8mm2 - crvene boje - samogasiva PVC izolacija - bezhalogeni, malodimni - CPR klasifikacija C - s1a, d0, a1 | C61: m | D61: 300 | F61: =IF(E61<>"",E61*D61,"")
A63: =A61+1 -> 28 | B63: Dobava i nadžbukna ugradnja plastične kabelske kanalice 120x50mm - uključujući potrebni instalacijski spojni i montažni pribor i materijal (razvodne kutije, uvodnice, gips, tiple, vijci, spojnice, koljena, nosači) | C63: m | D63: 100 | F63: =IF(E63<>"",E63*D63,"")
A65: =A63+1 -> 29 | B65: Dobava i nadžbukna ugradnja plastične kabelske kanalice 40x17mm - uključujući potrebni instalacijski spojni i montažni pribor i materijal (razvodne kutije, uvodnice, gips, tiple, vijci, spojnice, koljena, nosači) | C65: m | D65: 100 | F65: =IF(E65<>"",E65*D65,"")
A67: =A65+1 -> 30 | B67: Dobava i nadžbukna ugradnja plastične kabelske kanalice 20x15mm - uključujući potrebni instalacijski spojni i montažni pribor i materijal (razvodne kutije, uvodnice, gips, tiple, vijci, spojnice, koljena, nosači) | C67: m | D67: 200 | F67: =IF(E67<>"",E67*D67,"")
A69: =A67+1 -> 31 | B69: Polaganje negorive rebraste CS cijevi fi 25 mm | C69: m | D69: 50 | F69: =IF(E69<>"",E69*D69,"")
... A85: =A83+1 -> 39 | B85: Dobava i montaža CS cijevi fi 20mm za uvlačenje instalacija, sve komplet sa svim potrebnim montažnim priborom i dijelovima | C85: m | D85: 100 | F85: =IF(E85<>"",E85*D85,"")
A87: =A7&":" -> 1. DOJAVA POŽARA: | F87: =IF(SUM(F9:F86)<>0,SUM(F9:F86),"")
...

Sheet Specifikacija - Etapa 4
A1: TRADEL d.o.o. Biškupec breg 8B, 10000 Zagreb OIB: 23164441019 E-mail: krunoslav.bicanic@gmail.com Tel. 098/843-456 | C1: Građevina, Lokacija: | E1: NARODNO SVEUČILIŠTE DUBRAVA AVENIJA DUBRAVA 51A, 10040 ZAGREB k.č. 9577/2, k.o. 335304 DUBRAVA
C2: Investitor: | E2: NARODNO SVEUČILIŠTE DUBRAVA-ZAGREB, OIB 47521323377 CERSKA 1, 10040 ZAGREB
C3: Razina pr.: | E3: PROJEKT SUSTAVA VATRODOJAVE
C4: Oznaka pr.: | E4: TP-25-02-06
A5: Etapa – 4: Prizemlje
A6: Redni broj | B6: Tekstualni opis stavke | C6: Jedinica mjere | D6: Količina | E6: Jedinična cijena stavke | F6: Ukupna cijena stavke
A7: 1. DOJAVA POŽARA
A9: 1 | B9: Demontaža postojećih javljača požara i senzora. | C9: kom | D9: 42 | F9: =IF(E9<>"",E9*D9,"")
A11: =A9+1 -> 2 | B11: Dobava i isporuka adresabilnog optičkog detektora s integriranim izolatorom petlje sa sljedećim minimalnim tehničkim karakteristikama: - obavezno automatsko adresiranje s centrale - obavezno mogućnost ručnog adresiranja s centrale - obavezno podesiva osjetljivost s centrale, posebno za dnevni, posebno za noćni režim - ugraden izolator petlje - dizajn optičke komore sa zaštitom od smetnji, dvostruka zaštita od prašine i insekata, zaštitna mrežica sa ultra-malim otvorima (500µm) - trobojna LED vidljiva 360° - mogućnost izbora osjetljivosti detektora i moda rada daljinski putem centrale - radni napon minimalno u rasponu od 19 do 30 Vdc - struja u mirovanju najviše 200 μA, struja u alarmu najviše 10 mA - minimalno četiri stupnja osjetljivosti (0,08/0,1/0,12/0,15 dB/m) - radna temperatura minimalno u rasponu od -5°C do +40°C - mora biti sukladan normama HRN EN 54-7 i HRN EN 54-17 Ili jednakovrijedno ______________________________________________ | C11: kom | D11: 1 | F11: =IF(E11<>"",E11*D11,"")
A13: =A11+1 -> 3 | B13: Dobava i isporuka adresabilnog optičko-termičkog detektora požara s integriranim izolatorom petlje sa sljedećim minimalnim tehničkim karakteristikama: - niskoprofilni analogno adresabilni višekriterijski (optičko-termički) detektor požara - dvobojna LED, crvena boja alarm, zelena-sporo bljeskanje standby, brzo - bljeskanje: greška ili visok nivo zaprljanja - potpuna dijagnostika stanja detektora: provjera ostalih vrijednosti u realnom vremenu - ugrađen izolator petlje - zaštita od smetnji, dvostruka zaštita od prašine i insekata - radni napon minimalno u rasponu od 19 do 30 Vdc - struja u mirovanju najviše 200 μA, struja u alarmu najviše 10 mA - minimalno četiri stupnja osjetljivosti za detekciju dima (0,08/0,1/0,12/0,15 dB/m) - minimalno četiri stupnja osjetljivosti termistora prema HRN EN 54 (A1R / B / BR / A2S) - minimalno pet načina rada: PLUS, ILI, I, DIM, TOPLINA - radna temperatura minimalno u rasponu od -5°C do +40°C - mora biti sukladan normama HRN EN 54-5, HRN EN 54-7 i HRN EN 54-17 Ili jednakovrijedno ______________________________________________ | C13: kom | D13: 23 | F13: =IF(E13<>"",E13*D13,"")
A15: =A13+1 -> 4 | B15: Dobava i isporuka podnožja za adresabilne detektore. Mora biti opremljeno sa kontaktom (mostom) koji osigurava neprekinutost linije prilikom skidanja detektora. | C15: kom | D15: =SUM(C11:D13) -> 24 | F15: =IF(E15<>"",E15*D15,"")
A17: =A15+1 -> 5 | B17: Dobava i isporuka odstojnika za nadžbuknu montažu za montažu ispod podnožja detektora na pozicijama gdje nema spuštenog stropa. | C17: kom | D17: =D15 -> 24 | F17: =IF(E17<>"",E17*D17,"")
A19: =A17+1 -> 6 | B19: Dobava i isporuka adresabilnog ručnog javljača požara s integriranim izolatorom petlje, bez razbijanja stakla, crvene boje, reset ključem, sljedećih minimalnih tehničkih karakteristika: - mehanička vizualna inidkacija aktivacije - mora imati prozirni plastični element za aktivaciju koje se mora moći ručno vratiti u neutralan položaj, bez lomljenja i potrebe za zamjenom nakon svake aktivacije - po naredbi iz adresabilne centrale šalje informaciju o stanju javljača - ugrađen izolator petlje - radni napon u rasponu od 9 do 30 Vdc - struja u mirovanju najviše 80 μA, struja u alarmu najviše 5 mA - radna temperatura minimalno u rasponu od -10°C do +55°C - mora biti sukladan normama HRN EN 54-11 i HRN EN 54-17 Ili jednakovrijedno ______________________________________________ | C19: kom | D19: 5 | F19: =IF(E19<>"",E19*D19,"")
A21: =A19+1 -> 7 | B21: Dobava i isporuka ulazno-izlaznog modula s 1 ulazom i 2 izlaza - mogućnost samoadresiranja - najmanje 1 nadzirani ulaz - najmanje 1 nadzirani izlaz - najmanje 1 beznaponski izlaz 1A@30Vdc - integriran izolator petlje - radni napon u rasponu od 9 do 30 Vdc - struja u mirovanju najviše 80 μA, struja u alarmu najviše 20 mA - radna temperatura minimalno u rasponu od -5°C do +40°C - mora biti sukladan normama HRN EN 54-17 i HRN EN 54-18 Ili jednakovrijedno ______________________________________________ | C21: kom | D21: 1 | F21: =IF(E21<>"",E21*D21,"")
A23: =A21+1 -> 8 | B23: Dobava i isporuka nadžbukne kutije za ulazno-izlazni modul dim.150 x 150 x 75 mm. | C23: kom | D23: 1 | F23: =IF(E23<>"",E23*D23,"")
A25: =A23+1 -> 9 | B25: Dobava i isporuka adresabilne sirene s bljeskalicom napajane iz petlje, sljedećih minimalnih tehničkih karakteristika: - napajanje iz petlje ili preko vanjskog napajanja - termoplastično kućište crvene boje - izbor minimalno 14 tonova i 2 jačine bljeskanja (putem zasebnog programatora ili centrale za dojavu požara) - svjetlosno pokrivanje bljeskalicom W = 3,5-10 (prema HRN EN 54-23) - frekvencija bljeskanja 0,5 Hz - mogućnost sinkronizacije s ostalim sirenama u sustavu - signalizacijska LED dioda s mogućnošću mijenjanja boje - glasnoća do 101 dB(A)@1m - integriran izolator kratkog spoja (prema HRN EN 54-17) - radni napon minimalno u rasponu od 18 do 30Vdc - IP65 zaštita, pogodna za vanjsku ugradnju (IP21 prema HRN EN 54-3) - struja mirovanja najviše 0,5 mA - struja alarma najviše 45 mA - radna temperatura -10°C do +55°C - mora biti sukladna normama HRN EN 54-3, HRN EN 54-17, HRN EN 54-23 Ili jednakovrijedno ______________________________________________ | C25: kom | D25: 1 | F25: =IF(E25<>"",E25*D25,"")
A27: =A25+1 -> 10 | B27: Konfiguracija jednog ulaznog ili izlaznog aktivnog elementa u aplikaciji integracije sustava. | C27: kom | D27: =D29 -> 24 | F27: =IF(E27<>"",E27*D27,"")
A29: =A27+1 -> 11 | B29: Montaža podnožja i spajanje podnožja vatrodojavnog detektora na liniju | C29: kom | D29: =D15 -> 24 | F29: =IF(E29<>"",E29*D29,"")
A31: =A29+1 -> 12 | B31: Montaža javljača požara na podnožje i adresiranje detektora | C31: kom | D31: =D29 -> 24 | F31: =IF(E31<>"",E31*D31,"")
A33: =A31+1 -> 13 | B33: Montaža odstojnika | C33: kom | D33: =D31 -> 24 | F33: =IF(E33<>"",E33*D33,"")
A35: =A33+1 -> 14 | B35: Montaža i spajanje ručnog javljača požara i adresiranje | C35: kom | D35: =D19 -> 5 | F35: =IF(E35<>"",E35*D35,"")
A37: =A35+1 -> 15 | B37: Montaža i spajanje vatrodojavne sirene / bljeskalice | C37: kom | D37: 16 | F37: =IF(E37<>"",E37*D37,"")
A39: =A37+1 -> 16 | B39: Montaža i spajanje ulazno-izlaznog modula | C39: kom | D39: =D21 -> 1 | F39: =IF(E39<>"",E39*D39,"")
A41: =A39+1 -> 17 | B41: Puštanje sustava za dojavu požara i vatrodojavnih petlji u rad, uz provjeru petlji, pronalaženje eventualnih grešaka i njihovo ispravljanje, do pune funkcionalnosti svake petlje | C41: kpl | D41: 1 | F41: =IF(E41<>"",E41*D41,"")
A43: =A41+1 -> 18 | B43: Programiranje adresabilne vatrodojavne centrale - po jednom detektoru, javljaču, sireni ili modulu | C43: kom | D43: =D29 -> 24 | F43: =IF(E43<>"",E43*D43,"")
A45: =A43+1 -> 19 | B45: Dobava potrebnih oznaka i označavanje svih elemenata vatrodojavnog sustava prema blok-shemi | C45: kom | D45: =D43 -> 24 | F45: =IF(E45<>"",E45*D45,"")
A47: =A45+1 -> 20 | B47: Izrada protupožarnog brtvljenja - na probojima između požarnih sektora sa atestiranim negorivim materijalima klase vatrootpornosti prema EN 13501-2 i označavanje mjesta protupožarnog brtvljenja. Ili jednakovrijedno ______________________________________________ | C47: kom | D47: 4 | F47: =IF(E47<>"",E47*D47,"")
A49: =A47+1 -> 21 | B49: Izrada projekta izvedenog stanja sustava za dojavu požara - u 3 tiskana primjerka te jednom primjeku u digitalnom obliku | C49: kpl. | D49: 1 | F49: =IF(E49<>"",E49*D49,"")
A51: =A49+1 -> 22 | B51: Prvo ispitivanje sustava od strane ovlaštene tvrtke - uključuje izdavanje uvjerenja o ispravnosti sustava i zapisnika o obavljenom funkcionalnom ispitivanju | C51: kpl | D51: 1 | F51: =IF(E51<>"",E51*D51,"")
A53: =A51+1 -> 23 | B53: Obuka korisnika za rukovanje sustavom dojave požara - uključivo tiskane upute za rukovanje na hrvatskom jeziku (2 primjerka) | C53: kpl | D53: 1 | F53: =IF(E53<>"",E53*D53,"")
A55: =A53+1 -> 24 | B55: Dobava i isporuka kabela za napajanje NHXH (E30) 3x2,5mm2 | C55: m | D55: 100 | F55: =IF(E55<>"",E55*D55,"")
A57: =A55+1 -> 25 | B57: Dobava i isporuka kabela UTP 4x2x24 AWG Cat 5e za spoj dojavnika na telefonsku liniju | C57: m | D57: 100 | F57: =IF(E57<>"",E57*D57,"")
A59: =A57+1 -> 26 | B59: Dobava i isporuka vatrodojavnog kabela, krutih vodiča 2x1 mm2, vrstre kabela SAS0215HFAAH - crvene boje - samogasiva PVC izolacija - bezhalogeni, malodimni | C59: m | D59: 150 | F59: =IF(E59<>"",E59*D59,"")
A61: =A59+1 -> 27 | B61: Dobava i isporuka vatrodojavnog kabela, krutih vodiča, s očuvanjem električne funkcije u požaru, oznake JB-H(St)H E30 2x2x0,8mm2 - crvene boje - samogasiva PVC izolacija - bezhalogeni, malodimni - CPR klasifikacija C - s1a, d0, a1 | C61: m | D61: 150 | F61: =IF(E61<>"",E61*D61,"")
A63: =A61+1 -> 28 | B63: Dobava i nadžbukna ugradnja plastične kabelske kanalice 120x50mm - uključujući potrebni instalacijski spojni i montažni pribor i materijal (razvodne kutije, uvodnice, gips, tiple, vijci, spojnice, koljena, nosači) | C63: m | D63: 100 | F63: =IF(E63<>"",E63*D63,"")
A65: =A63+1 -> 29 | B65: Dobava i nadžbukna ugradnja plastične kabelske kanalice 40x17mm - uključujući potrebni instalacijski spojni i montažni pribor i materijal (razvodne kutije, uvodnice, gips, tiple, vijci, spojnice, koljena, nosači) | C65: m | D65: 100 | F65: =IF(E65<>"",E65*D65,"")
A67: =A65+1 -> 30 | B67: Dobava i nadžbukna ugradnja plastične kabelske kanalice 20x15mm - uključujući potrebni instalacijski spojni i montažni pribor i materijal (razvodne kutije, uvodnice, gips, tiple, vijci, spojnice, koljena, nosači) | C67: m | D67: 200 | F67: =IF(E67<>"",E67*D67,"")
A69: =A67+1 -> 31 | B69: Polaganje negorive rebraste CS cijevi fi 25 mm | C69: m | D69: 50 | F69: =IF(E69<>"",E69*D69,"")
... A85: =A83+1 -> 39 | B85: Dobava i montaža CS cijevi fi 20mm za uvlačenje instalacija, sve komplet sa svim potrebnim montažnim priborom i dijelovima | C85: m | D85: 100 | F85: =IF(E85<>"",E85*D85,"")
A87: =A7&":" -> 1. DOJAVA POŽARA: | F87: =IF(SUM(F9:F86)<>0,SUM(F9:F86),"")
...

Sheet Rekapitulacija
A1: TRADEL d.o.o. Biškupec breg 8B, 10000 Zagreb OIB: 23164441019 E-mail: krunoslav.bicanic@gmail.com Tel. 098/843-456 | C1: Građevina, Lokacija: | E1: NARODNO SVEUČILIŠTE DUBRAVA AVENIJA DUBRAVA 51A, 10040 ZAGREB k.č. 9577/2, k.o. 335304 DUBRAVA
C2: Investitor: | E2: NARODNO SVEUČILIŠTE DUBRAVA-ZAGREB, OIB 47521323377 CERSKA 1, 10040 ZAGREB
C3: Razina pr.: | E3: PROJEKT SUSTAVA VATRODOJAVE
C4: Oznaka pr.: | E4: TP-25-02-06
A5: Rekapitulacija
A6: ='Specifikacija - Etapa 1'!A112 -> Etapa – 1: Vatrodojavna centrala i 2. Kat | F6: ='Specifikacija - Etapa 1'!F112
A7: ='Specifikacija - Etapa 2'!A90 -> Etapa – 2: Podrum | F7: ='Specifikacija - Etapa 2'!F90
A8: ='Specifikacija - Etapa 3'!A90 -> Etapa – 3: 1. Kat | F8: ='Specifikacija - Etapa 3'!F90
A9: ='Specifikacija - Etapa 4'!A90 -> Etapa – 4: Prizemlje | F9: ='Specifikacija - Etapa 4'!F90
A10: Sveukupno:
C11: Osnovica za PDV: | F11: =IF(SUM(F6:F9)<>0,SUM(F6:F9),"")
C12: Od toga PDV(25%): | F12: =IF(F11 = "","",F11*0.25)
C13: SVEUKUPNO: | F13: =IF(F11="","",F11*1.25)
